BEGIN:VCALENDAR
PRODID:-//Coffey Communications/SiteAssist/Calendar//EN
VERSION:2.0
METHOD:REQUEST
BEGIN:VEVENT
DTSTART:20260423T120000Z
DTEND:20260423T210000Z
DTSTAMP:20260424T152026Z
UID:BF8978ECA50A475ABBCC4CB1F818BA0D@www.sghs.org
CREATED:20260424T152026Z
X-ALT-DESC;FMTTYPE=text/html:<p>Drop-by to have your Health Care Directive scanned into your medical records, have it updated or complete one if you don’t already have one!<strong> Please bring your Photo ID.</strong></p>
LAST-MODIFIED:20260424T152026Z
LOCATION:Southeast Georgia Health System, Conference Room B, 2000 Dan Proctor Drive, St. Marys, GA 31558
SEQUENCE:0
STATUS:CONFIRMED
SUMMARY:Health Care Directive Fair (Camden Campus)
TRANSP:OPAQUE
BEGIN:VALARM
TRIGGER:-PT60M
DURATION:PT1M
ACTION:DISPLAY
DESCRIPTION:Health Care Directive Fair (Camden Campus)
END:VALARM
END:VEVENT
END:VCALENDAR
